BEGIN:VCALENDAR
VERSION:2.0
PRODID:-//Dell Children&#039;s Health Plan - ECPv6.3.3.1//NONSGML v1.0//EN
CALSCALE:GREGORIAN
METHOD:PUBLISH
X-ORIGINAL-URL:https://dellchildrenshealthplan.com
X-WR-CALDESC:Events for Dell Children&#039;s Health Plan
REFRESH-INTERVAL;VALUE=DURATION:PT1H
X-Robots-Tag:noindex
X-PUBLISHED-TTL:PT1H
BEGIN:VTIMEZONE
TZID:UTC
BEGIN:STANDARD
TZOFFSETFROM:+0000
TZOFFSETTO:+0000
TZNAME:UTC
DTSTART:20260101T000000
END:STANDARD
END:VTIMEZONE
BEGIN:VEVENT
DTSTART;TZID=UTC:20260130T100000
DTEND;TZID=UTC:20260130T120000
DTSTAMP:20260421T070637
CREATED:20260119T043555Z
LAST-MODIFIED:20260119T051418Z
UID:10000746-1769767200-1769774400@dellchildrenshealthplan.com
SUMMARY:Let's celebrate your baby!
DESCRIPTION:Join us for a community baby shower and celebrate your little one with us! \nCome enjoy yummy food\, refreshing drinks\, fun games and awesome prizes for your new bundle of joy. You can also learn about what to expect during and after your pregnancy. We will have educational information\, community resources and more. \n Friday\, January 30 \n From 10:00 a.m. to 12:00 p.m. \n Texas Administrative Offices: 1st Floor Auditorium\, 1345 Philomena St. Austin\, TX 78723. \nCall 1-512-324-DHCP (3247) or email DCHPCommunityOutreach@ascension.org for more information. All pregnant women are welcome to attend this baby shower at no cost!
URL:https://dellchildrenshealthplan.com/event/14549/
LOCATION:Texas Administrative Offices\, 1345 Philomena St.\, Austin\, TX\, 78723\, United States
CATEGORIES:Featured
ATTACH;FMTTYPE=image/jpeg:https://dellchildrenshealthplan.com/wp-content/uploads/2026/01/Baby-Shower-Image-for-January-30-2026-scaled.jpg
END:VEVENT
END:VCALENDAR