BEGIN:VCALENDAR
VERSION:2.0
PRODID:-//Dell Children&#039;s Health Plan - ECPv6.3.3.1//NONSGML v1.0//EN
CALSCALE:GREGORIAN
METHOD:PUBLISH
X-WR-CALNAME:Dell Children&#039;s Health Plan
X-ORIGINAL-URL:https://dellchildrenshealthplan.com
X-WR-CALDESC:Events for Dell Children&#039;s Health Plan
REFRESH-INTERVAL;VALUE=DURATION:PT1H
X-Robots-Tag:noindex
X-PUBLISHED-TTL:PT1H
BEGIN:VTIMEZONE
TZID:UTC
BEGIN:STANDARD
TZOFFSETFROM:+0000
TZOFFSETTO:+0000
TZNAME:UTC
DTSTART:20260101T000000
END:STANDARD
TZID:UTC
BEGIN:STANDARD
TZOFFSETFROM:+0000
TZOFFSETTO:+0000
TZNAME:UTC
DTSTART:20260101T000000
END:STANDARD
END:VTIMEZONE
BEGIN:VEVENT
DTSTART;TZID=UTC:20260406T080000
DTEND;TZID=UTC:20260406T170000
DTSTAMP:20260421T082005
CREATED:20260406T121226Z
LAST-MODIFIED:20260406T122406Z
UID:10000825-1775462400-1775494800@dellchildrenshealthplan.com
SUMMARY:6th Annual Mental Health Fair
DESCRIPTION:6th Annual Mental Health Fair \nMay 21\n6 pm to 7:30 pm \nManor High School\n14832 FM 973\nManor TX 78653
URL:https://dellchildrenshealthplan.com/event/6th-annual-mental-health-fair/
LOCATION:Manor High School\, 14832 FM 973\, Manor\, TX\, 78653\, United States
CATEGORIES:Featured
ATTACH;FMTTYPE=image/png:https://dellchildrenshealthplan.com/wp-content/uploads/2025/02/Screenshot-2025-02-21-at-3.51.34 PM.png
END:VEVENT
BEGIN:VEVENT
DTSTART;TZID=UTC:20260406T080000
DTEND;TZID=UTC:20260406T170000
DTSTAMP:20260421T082005
CREATED:20260406T123421Z
LAST-MODIFIED:20260406T123444Z
UID:10000829-1775462400-1775494800@dellchildrenshealthplan.com
SUMMARY:Spring Fest
DESCRIPTION:Spring Fest \nApril 18\n11 am – 2 pm \nFisherman’s Park\n1200 Wilson St.\nBastrop\, TX 78602
URL:https://dellchildrenshealthplan.com/event/spring-fest/
LOCATION:TX
CATEGORIES:Featured
ATTACH;FMTTYPE=image/png:https://dellchildrenshealthplan.com/wp-content/uploads/2025/02/kids-running.png
END:VEVENT
BEGIN:VEVENT
DTSTART;TZID=UTC:20260406T140000
DTEND;TZID=UTC:20260406T180000
DTSTAMP:20260421T082005
CREATED:20250102T203532Z
LAST-MODIFIED:20260119T053101Z
UID:10000754-1775484000-1775498400@dellchildrenshealthplan.com
SUMMARY:Need help renewing your Medicaid or CHIP coverage?
DESCRIPTION:Come see us in person for help. Appointment required. \n\nEvery first Monday from 2 p.m. to 6 p.m.\nEvery third Tuesday from 10 a.m. to 2 p.m.\n\n1345 Philomena St.\, Ste. 305\nAustin\, TX 78723 \nFor more information\, call us at 512-324-DCHP (3247) or email us at DCHPCommunityOutreach@ascension.org.
URL:https://dellchildrenshealthplan.com/event/come-see-us-in-person-for-help-appointment-required-2-2/2026-04-06/
LOCATION:1345 Philomena St.\, 1345 Philomena St.\, Ste. 305\, Austin\, 78723\, United States
CATEGORIES:Featured
ATTACH;FMTTYPE=image/jpeg:https://dellchildrenshealthplan.com/wp-content/uploads/2024/01/Re-enrollment-Clinics-Web-Post.jpg
END:VEVENT
END:VCALENDAR